BEGIN:VCALENDAR
VERSION:2.0
PRODID:-//Meaux//NONSGML v1.0//EN
CALSCALE:GREGORIAN
METHOD:PUBLISH
X-ORIGINAL-URL:https://www.catho77.fr
BEGIN:VEVENT
DTSTART;VALUE=DATE:20260617
DTEND;VALUE=DATE:20260617
DTSTAMP:20260422T094618Z
CREATED:20260415
LAST-MODIFIED:20260415
UID:69e898ea244b8-meaux
SUMMARY:Bioéthique : quels repères pour agir aujourd’hui ?
DESCRIPTION:Bioéthique : quels repères pour agir aujourd’hui ?
URL:https://www.catho77.fr/evenement/bioethique-quels-reperes-pour-agir-aujourdhui/
ATTACH;FMTTYPE=image/jpeg:https://www.catho77.fr/wp-content/uploads/2026/04/bioethique-fontainebleau.jpg
END:VEVENT
END:VCALENDAR
