BEGIN:VCALENDAR
VERSION:2.0
PRODID:-//Meaux//NONSGML v1.0//EN
CALSCALE:GREGORIAN
METHOD:PUBLISH
X-ORIGINAL-URL:https://www.catho77.fr
BEGIN:VEVENT
DTSTART;VALUE=DATE:20260314
DTEND;VALUE=DATE:20260314
DTSTAMP:20260421T091209Z
CREATED:20260306
LAST-MODIFIED:20260306
UID:69e73f69857b3-meaux
SUMMARY:Le Salon des Seniors
DESCRIPTION:Le Salon des Seniors
URL:https://www.catho77.fr/evenement/le-salon-des-seniors-2/
ATTACH;FMTTYPE=image/png:https://www.catho77.fr/wp-content/uploads/2026/03/salon-des-seniors-1.png
END:VEVENT
END:VCALENDAR
