BEGIN:VCALENDAR
VERSION:2.0
PRODID:-//Meaux//NONSGML v1.0//EN
CALSCALE:GREGORIAN
METHOD:PUBLISH
X-ORIGINAL-URL:https://www.catho77.fr
BEGIN:VEVENT
DTSTART;VALUE=DATE:20260313
DTEND;VALUE=DATE:20260313
DTSTAMP:20260424T102720Z
CREATED:20260304
LAST-MODIFIED:20260304
UID:69eb45889fe34-meaux
SUMMARY:Messe pour les victimes de violences et agressions sexuelles\, d’abus de pouvoir et de conscience dans l’Eglise
DESCRIPTION:Messe pour les victimes de violences et agressions sexuelles\, d’abus de pouvoir et de conscience dans l’Eglise
URL:https://www.catho77.fr/evenement/messe-pour-les-victimes-de-violences-et-agressions-sexuelles-dabus-de-pouvoir-et-de-conscience-dans-leglise/
ATTACH;FMTTYPE=image/jpeg:https://www.catho77.fr/wp-content/uploads/2026/03/851-vignette-photo-agenda-journee-memorielle-2025-1.jpg
END:VEVENT
END:VCALENDAR
