BEGIN:VCALENDAR
VERSION:2.0
PRODID:-//Meaux//NONSGML v1.0//EN
CALSCALE:GREGORIAN
METHOD:PUBLISH
X-ORIGINAL-URL:https://www.catho77.fr
BEGIN:VEVENT
DTSTART;VALUE=DATE:20260201
DTEND;VALUE=DATE:20260201
DTSTAMP:20260424T014002Z
CREATED:20251118
LAST-MODIFIED:20251118
UID:69eac9f2895a6-meaux
SUMMARY:Lancement du Concile dans les pôles missionnaires
DESCRIPTION:Lancement du Concile dans les pôles missionnaires
URL:https://www.catho77.fr/evenement/ceremonie-paroissiale-de-lancement-du-concile/
ATTACH;FMTTYPE=image/jpeg:https://www.catho77.fr/wp-content/uploads/2025/11/807-07juin15hn-rochereauimg-9978-smallrecadr.jpg
END:VEVENT
END:VCALENDAR
