BEGIN:VCALENDAR
VERSION:2.0
PRODID:-//Meaux//NONSGML v1.0//EN
CALSCALE:GREGORIAN
METHOD:PUBLISH
X-ORIGINAL-URL:https://www.catho77.fr
BEGIN:VEVENT
DTSTART;VALUE=DATE:20260522
DTEND;VALUE=DATE:20260525
DTSTAMP:20260426T031930Z
CREATED:20251007
LAST-MODIFIED:20251007
UID:69ed844258f19-meaux
SUMMARY:Frat Jambville 2026
DESCRIPTION:Frat Jambville 2026
URL:https://www.catho77.fr/evenement/frat-jambville-2026/
ATTACH;FMTTYPE=image/jpeg:https://www.catho77.fr/wp-content/uploads/2025/10/flyers-frat.jpg
END:VEVENT
END:VCALENDAR
