BEGIN:VCALENDAR
VERSION:2.0
PRODID:-//Meaux//NONSGML v1.0//EN
CALSCALE:GREGORIAN
METHOD:PUBLISH
X-ORIGINAL-URL:https://www.catho77.fr
BEGIN:VEVENT
DTSTART;VALUE=DATE:20250926
DTEND;VALUE=DATE:20250928
DTSTAMP:20260424T090519Z
CREATED:20240820
LAST-MODIFIED:20240820
UID:69eb324f6352c-meaux
SUMMARY:Jubilé des catéchistes
DESCRIPTION:Jubilé des catéchistes
URL:https://www.catho77.fr/evenement/jubile-des-catechistes/
ATTACH;FMTTYPE=image/jpeg:https://www.catho77.fr/wp-content/uploads/2024/08/664-logo-jubile-catechistes-2025.jpg
END:VEVENT
END:VCALENDAR
