BEGIN:VCALENDAR
VERSION:2.0
PRODID:-//Meaux//NONSGML v1.0//EN
CALSCALE:GREGORIAN
METHOD:PUBLISH
X-ORIGINAL-URL:https://www.catho77.fr
BEGIN:VEVENT
DTSTART;VALUE=DATE:20240308
DTEND;VALUE=DATE:20240308
DTSTAMP:20260424T204228Z
CREATED:20240214
LAST-MODIFIED:20240214
UID:69ebd5b4405ee-meaux
SUMMARY:Journée annuelle de mémoire et de prière pour les personnes victimes d’agressions sexuelles
DESCRIPTION:Journée annuelle de mémoire et de prière pour les personnes victimes d’agressions sexuelles
URL:https://www.catho77.fr/evenement/journee-annuelle-de-memoire-et-de-priere-pour-les-personnes-victimes-dagressions-sexuelles/
ATTACH;FMTTYPE=image/jpeg:https://www.catho77.fr/wp-content/uploads/2024/02/visuel-carte-journee-memorielle.jpg
END:VEVENT
END:VCALENDAR
